BEGIN:VCALENDAR
VERSION:2.0
PRODID:-//Spielraum Bielefeld - ECPv4.0//NONSGML v1.0//EN
CALSCALE:GREGORIAN
METHOD:PUBLISH
X-WR-CALNAME:Spielraum Bielefeld
X-ORIGINAL-URL:http://spielraum-bielefeld.de
X-WR-CALDESC:Events for Spielraum Bielefeld
BEGIN:VEVENT
DTSTART;TZID="Europe/Berlin":20170218T110000
DTEND;TZID="Europe/Berlin":20170218T110000
DTSTAMP:20260422T234052
CREATED:20170205T195315
LAST-MODIFIED:20170205T195410
UID:1314-1487415600-1487415600@spielraum-bielefeld.de
SUMMARY:A Game of Thrones – Store Championship 2017
DESCRIPTION:Ort: Spielraum Bielefeld\nDatum: Samstag\, 18.02.2017\nStartzeit: 12:00\nCheck-In: 11:00 - 11:45\n\nFormat: Basis-Turnierstruktur (Swiss-Runden und ggf. Top-Cut)\nErlaubt: Karten die bis zum 04.02.2017 auf deutsch erschienen sind.\nSprachen: deutsch\, englisch\nDecklisten und Kartenhüllen erforderlich.\n\nTurnierregeln: Standard FFG\nStartgeld: 10\,- Euro\nPreise: Store Championship Kit\nAnmeldung: Mit Vor- und Nachname per e-mail an info@spielraum-bielefeld.de\nTeilnehmeranzahl: max. 32\nTurnierorganisator (TO): Daniele
URL:http://spielraum-bielefeld.de/event/a-game-of-thrones-store-championship-2017/
LOCATION:Am Sparrenberg 2\, Bielefeld\, Nordrhein-Westfalen\, 33602\, Deutschland
CATEGORIES:A Game of Thrones (LCG)
ATTACH;FMTTYPE=image/jpeg:http://spielraum-bielefeld.de/wp-content/uploads/2017/02/A-Game-of-Thrones-–-Store-Championship-2017.jpg
ORGANIZER;CN="Spielraum":MAILTO:info@spielraum-bielefeld.de
END:VEVENT
END:VCALENDAR