BEGIN:VCALENDAR
VERSION:2.0
PRODID:-//Spielraum Bielefeld - ECPv4.0//NONSGML v1.0//EN
CALSCALE:GREGORIAN
METHOD:PUBLISH
X-WR-CALNAME:Spielraum Bielefeld
X-ORIGINAL-URL:http://spielraum-bielefeld.de
X-WR-CALDESC:Events for Spielraum Bielefeld
BEGIN:VEVENT
DTSTART;TZID="Europe/Berlin":20160227T110000
DTEND;TZID="Europe/Berlin":20160227T110000
DTSTAMP:20260423T010242
CREATED:20160126T170211
LAST-MODIFIED:20160223T161309
UID:611-1456570800-1456570800@spielraum-bielefeld.de
SUMMARY:A Game of Thrones LCG (Store Championship)
DESCRIPTION:Format: Schweizer System (ab 17 Spielern plus Cut)\, Rundenanzahl nach offiziellen FFG Regeln\nKartenpool: Alles bis Der Weg nach Winterfell\nSprachen: deutsch\, englisch\n\nTurnierregeln: Standard FFG\nPreise: Store Championship Preiskit (plus weiteres je nach Teilnehmerzahl)\nTeilnehmeranzahl: max. 32\nTurnierorganisator: Daniele Martella\n
URL:http://spielraum-bielefeld.de/event/a-game-of-thrones-store-championship/
LOCATION:Am Sparrenberg 2\, Bielefeld\, Nordrhein-Westfalen\, 33602\, Deutschland
CATEGORIES:A Game of Thrones (LCG)
ATTACH;FMTTYPE=image/jpeg:http://spielraum-bielefeld.de/wp-content/uploads/2015/11/A-Game-of-Thrones-The-Card-Game-Second-Edition.jpg
ORGANIZER;CN="Spielraum":MAILTO:info@spielraum-bielefeld.de
END:VEVENT
END:VCALENDAR