BEGIN:VCALENDAR
VERSION:2.0
PRODID:-//Spielraum Bielefeld - ECPv4.0//NONSGML v1.0//EN
CALSCALE:GREGORIAN
METHOD:PUBLISH
X-WR-CALNAME:Spielraum Bielefeld
X-ORIGINAL-URL:http://spielraum-bielefeld.de
X-WR-CALDESC:Events for Spielraum Bielefeld
BEGIN:VEVENT
DTSTART;TZID="Europe/Berlin":20160720T163000
DTEND;TZID="Europe/Berlin":20160720T203000
DTSTAMP:20260422T233916
CREATED:20160716T105016
LAST-MODIFIED:20160716T105016
UID:939-1469032200-1469046600@spielraum-bielefeld.de
SUMMARY:Brettspiel-Abend
DESCRIPTION:Bei uns findet jeden ersten und dritten Mittwoch im Monat von 18:30 bis circa 22:00 Uhr ein Spieleabend statt \nDabei habt ihr die Möglichkeit Neuheiten kennenzulernen oder Altbewährtes zu spielen.\nDie Termine werden im Kalender veröffentlicht und können dort kommentiert werden. Wir bemühen uns die Neuheiten anzukündigen und eure Wünsche zu berücksichtigen.\n\nDiese Woche habt ihr die Möglichkeit Munchkin Steampunk kennenzulernen :)
URL:http://spielraum-bielefeld.de/event/brettspiel-abend-3/
LOCATION:Am Sparrenberg 2\, Bielefeld\, Nordrhein-Westfalen\, 33602\, Deutschland
CATEGORIES:Spieleabend
ORGANIZER;CN="Spielraum":MAILTO:info@spielraum-bielefeld.de
END:VEVENT
END:VCALENDAR