BEGIN:VCALENDAR
VERSION:2.0
PRODID:-//Spielraum Bielefeld - ECPv4.0//NONSGML v1.0//EN
CALSCALE:GREGORIAN
METHOD:PUBLISH
X-WR-CALNAME:Spielraum Bielefeld
X-ORIGINAL-URL:http://spielraum-bielefeld.de
X-WR-CALDESC:Events for Spielraum Bielefeld
BEGIN:VEVENT
DTSTART;TZID="Europe/Berlin":20160817T163000
DTEND;TZID="Europe/Berlin":20160817T200000
DTSTAMP:20260423T010039
CREATED:20160817T091337
LAST-MODIFIED:20160817T091337
UID:1007-1471451400-1471464000@spielraum-bielefeld.de
SUMMARY:Brettspiel-Abend
DESCRIPTION:Bei uns findet jeden ersten und dritten Mittwoch im Monat von 18:30 bis circa 22:00 Uhr ein Spieleabend statt \nDabei habt ihr die Möglichkeit Neuheiten kennenzulernen oder Altbewährtes zu spielen.\nDie Termine werden im Kalender veröffentlicht und können dort kommentiert werden. Wir bemühen uns die Neuheiten anzukündigen und eure Wünsche zu berücksichtigen.\n\nDiese Woche habt ihr die Möglichkeit Roll for the Galaxy kennenzulernen :)
URL:http://spielraum-bielefeld.de/event/brettspiel-abend-4/
LOCATION:Am Sparrenberg 2\, Bielefeld\, Nordrhein-Westfalen\, 33602\, Deutschland
CATEGORIES:Spieleabend
ATTACH;FMTTYPE=image/jpeg:http://spielraum-bielefeld.de/wp-content/uploads/2016/08/roll_for_galaxy.jpg
ORGANIZER;CN="Spielraum":MAILTO:info@spielraum-bielefeld.de
END:VEVENT
END:VCALENDAR