BEGIN:VCALENDAR
VERSION:2.0
PRODID:-//Spielraum Bielefeld - ECPv4.0//NONSGML v1.0//EN
CALSCALE:GREGORIAN
METHOD:PUBLISH
X-WR-CALNAME:Spielraum Bielefeld
X-ORIGINAL-URL:http://spielraum-bielefeld.de
X-WR-CALDESC:Events for Spielraum Bielefeld
BEGIN:VEVENT
DTSTART;TZID="Europe/Berlin":20170816T163000
DTEND;TZID="Europe/Berlin":20170816T200000
DTSTAMP:20260422T215049
CREATED:20170731T190510
LAST-MODIFIED:20170731T190619
UID:1447-1502901000-1502913600@spielraum-bielefeld.de
SUMMARY:Brettspielabend
DESCRIPTION:Bei uns findet jeden ersten und dritten Mittwoch im Monat von 18:30 bis circa 22:00 Uhr ein Brettspielabend statt \nDabei habt ihr die Möglichkeit Neuheiten kennenzulernen oder Altbewährtes zu spielen.\nDie Termine werden im Kalender veröffentlicht und können dort kommentiert werden.\nWir bemühen uns die Neuheiten anzukündigen und eure Wünsche zu berücksichtigen.\n\nDiese Woche steht im Zeichen der Spiele des Jahres 2017\n\nDazu zählen sowohl die Sieger als auch die Nominierten Spiele des Jahres 2017.\nUnd nicht zu vergessen\, die Empfehlungsliste der Spiele die es nicht\nganz in die engere Auswahl geschaft haben.\n
URL:http://spielraum-bielefeld.de/event/brettspielabend-10/
LOCATION:Am Sparrenberg 2\, Bielefeld\, Nordrhein-Westfalen\, 33602\, Deutschland
CATEGORIES:Spieleabend
ATTACH;FMTTYPE=image/jpeg:http://spielraum-bielefeld.de/wp-content/uploads/2017/07/Spiel-des-Jahres.jpg
ORGANIZER;CN="Spielraum":MAILTO:info@spielraum-bielefeld.de
END:VEVENT
END:VCALENDAR