BEGIN:VCALENDAR
VERSION:2.0
PRODID:-//Spielraum Bielefeld - ECPv4.0//NONSGML v1.0//EN
CALSCALE:GREGORIAN
METHOD:PUBLISH
X-WR-CALNAME:Spielraum Bielefeld
X-ORIGINAL-URL:http://spielraum-bielefeld.de
X-WR-CALDESC:Events for Spielraum Bielefeld
BEGIN:VEVENT
DTSTART;TZID="Europe/Berlin":20170201T173000
DTEND;TZID="Europe/Berlin":20170201T210000
DTSTAMP:20260422T233920
CREATED:20170131T145255
LAST-MODIFIED:20170131T145255
UID:1308-1485970200-1485982800@spielraum-bielefeld.de
SUMMARY:Brettspielabend
DESCRIPTION:Bei uns findet jeden ersten und dritten Mittwoch im Monat von 18:30 bis circa 22:00 Uhr ein Spieleabend statt \nDabei habt ihr die Möglichkeit Neuheiten kennenzulernen oder Altbewährtes zu spielen.\nDie Termine werden im Kalender veröffentlicht und können dort kommentiert werden.\nWir bemühen uns die Neuheiten anzukündigen und eure Wünsche zu berücksichtigen.\n\nDiese Woche habt ihr die Möglichkeit Isle of Skye: Vom Häuptling zum König und Cottage Garden kennenzulernen :)\n
URL:http://spielraum-bielefeld.de/event/brettspielabend-4/
LOCATION:Am Sparrenberg 2\, Bielefeld\, Nordrhein-Westfalen\, 33602\, Deutschland
CATEGORIES:Spieleabend
ATTACH;FMTTYPE=image/jpeg:http://spielraum-bielefeld.de/wp-content/uploads/2017/01/Isle-of-Skye.jpg
ORGANIZER;CN="Spielraum":MAILTO:info@spielraum-bielefeld.de
END:VEVENT
END:VCALENDAR