BEGIN:VCALENDAR
VERSION:2.0
PRODID:-//Spielraum Bielefeld - ECPv4.0//NONSGML v1.0//EN
CALSCALE:GREGORIAN
METHOD:PUBLISH
X-WR-CALNAME:Spielraum Bielefeld
X-ORIGINAL-URL:http://spielraum-bielefeld.de
X-WR-CALDESC:Events for Spielraum Bielefeld
BEGIN:VEVENT
DTSTART;TZID="Europe/Berlin":20170719T163000
DTEND;TZID="Europe/Berlin":20170719T200000
DTSTAMP:20260422T232102
CREATED:20170626T161851
LAST-MODIFIED:20170626T161851
UID:1424-1500481800-1500494400@spielraum-bielefeld.de
SUMMARY:Brettspielabend
DESCRIPTION:Bei uns findet jeden ersten und dritten Mittwoch im Monat von 18:30 bis circa 22:00 Uhr ein Brettspielabend statt \nDabei habt ihr die Möglichkeit Neuheiten kennenzulernen oder Altbewährtes zu spielen.\nDie Termine werden im Kalender veröffentlicht und können dort kommentiert werden.\nWir bemühen uns die Neuheiten anzukündigen und eure Wünsche zu berücksichtigen.\n\nDiese Woche steht im Zeichen der folgenden Living Card Games (LCGs):\n- Arkham Horror\n- A Game of Thrones\n- Android: Netrunner\n- Ashes: Aufstieg der Phönixmagier\n\nDarüberhinaus stellen wir das Brettspiel SCYTHE vor :)\n\n
URL:http://spielraum-bielefeld.de/event/brettspielabend-8/
LOCATION:Am Sparrenberg 2\, Bielefeld\, Nordrhein-Westfalen\, 33602\, Deutschland
CATEGORIES:Spieleabend
ORGANIZER;CN="Spielraum":MAILTO:info@spielraum-bielefeld.de
END:VEVENT
END:VCALENDAR