BEGIN:VCALENDAR
VERSION:2.0
PRODID:-//Spielraum Bielefeld - ECPv4.0//NONSGML v1.0//EN
CALSCALE:GREGORIAN
METHOD:PUBLISH
X-WR-CALNAME:Spielraum Bielefeld
X-ORIGINAL-URL:http://spielraum-bielefeld.de
X-WR-CALDESC:Events for Spielraum Bielefeld
BEGIN:VEVENT
DTSTART;TZID="Europe/Berlin":20170408T120000
DTEND;TZID="Europe/Berlin":20170408T160000
DTSTAMP:20260423T010140
CREATED:20170401T091139
LAST-MODIFIED:20170401T091139
UID:1364-1491652800-1491667200@spielraum-bielefeld.de
SUMMARY:Force of Will Booster Draft
DESCRIPTION:Lapis Block\, Store Ruler Challenge April
URL:http://spielraum-bielefeld.de/event/force-of-will-booster-draft-2/
LOCATION:Am Sparrenberg 2\, Bielefeld\, Nordrhein-Westfalen\, 33602\, Deutschland
CATEGORIES:Force of Will (TCG)
ORGANIZER;CN="Spielraum":MAILTO:info@spielraum-bielefeld.de
END:VEVENT
END:VCALENDAR