BEGIN:VCALENDAR
VERSION:2.0
PRODID:-//Spielraum Bielefeld - ECPv4.0//NONSGML v1.0//EN
CALSCALE:GREGORIAN
METHOD:PUBLISH
X-WR-CALNAME:Spielraum Bielefeld
X-ORIGINAL-URL:http://spielraum-bielefeld.de
X-WR-CALDESC:Events for Spielraum Bielefeld
BEGIN:VEVENT
DTSTART;TZID="Europe/Berlin":20160526T140000
DTEND;TZID="Europe/Berlin":20160526T170000
DTSTAMP:20260422T234041
CREATED:20160525T135335
LAST-MODIFIED:20160525T151522
UID:819-1464271200-1464282000@spielraum-bielefeld.de
SUMMARY:Force of Will: Feuer Challenge Turnier
DESCRIPTION:Mindest-Preis für jeden Teilnehmer: 1 Booster + 1 Promo "Feuer-Zauberstein" (Foil)\n\nConstructed Format (Best-of-3) mit \nSonder-Deckbau-Regeln\n\n1. Alle Herrscher\, Resonatoren\, Zauber und Zusätze müssen das Attribut FEUER haben. Sie dürfen zusätzliche Attribute haben.\n\n2. Karten ohne FEUER-Attribut sind im Spieldeck nicht zulässig\, d.h. Insignien oder Resonatoren ohne Attribut dürfen nicht eingesetzt werden.\n\n3. Im Zaubersteindeck sind nur normale FEUER-Zaubersteine zulässig sowir Besondere Zaubersteine\, die FEUER Willen \nerzeugen können und in ihrer Willen-Fähigkeit das FEUER-Symbol vorkommt.
URL:http://spielraum-bielefeld.de/event/force-of-will-feuer-challenge-turnier/
LOCATION:Am Sparrenberg 2\, Bielefeld\, Nordrhein-Westfalen\, 33602\, Deutschland
CATEGORIES:Force of Will (TCG)
ATTACH;FMTTYPE=image/jpeg:http://spielraum-bielefeld.de/wp-content/uploads/2016/05/FOW_Matte_WC_Feuer.jpg
ORGANIZER;CN="Spielraum":MAILTO:info@spielraum-bielefeld.de
END:VEVENT
END:VCALENDAR