BEGIN:VCALENDAR
VERSION:2.0
PRODID:-//Spielraum Bielefeld - ECPv4.0//NONSGML v1.0//EN
CALSCALE:GREGORIAN
METHOD:PUBLISH
X-WR-CALNAME:Spielraum Bielefeld
X-ORIGINAL-URL:http://spielraum-bielefeld.de
X-WR-CALDESC:Events for Spielraum Bielefeld
BEGIN:VEVENT
DTSTART;TZID="Europe/Berlin":20170421T150000
DTEND;TZID="Europe/Berlin":20170421T180000
DTSTAMP:20260423T013350
CREATED:20170402T141902
LAST-MODIFIED:20170402T141942
UID:1365-1492786800-1492797600@spielraum-bielefeld.de
SUMMARY:Force of Will Turnier - New Frontiers (Alice / Lapis)
DESCRIPTION:Bei dem Turnierformat New Frontiers (Alice / Lapis) dürfen Karten aus dem Alice- und dem Lapis-Zyklus eingesetzt werden.\nStore Ruler Challenge April
URL:http://spielraum-bielefeld.de/event/force-of-will-turnier-new-frontiers-alice-lapis/
LOCATION:Am Sparrenberg 2\, Bielefeld\, Nordrhein-Westfalen\, 33602\, Deutschland
CATEGORIES:Force of Will (TCG)
ORGANIZER;CN="Spielraum":MAILTO:info@spielraum-bielefeld.de
END:VEVENT
END:VCALENDAR