BEGIN:VCALENDAR
VERSION:2.0
PRODID:-//Spielraum Bielefeld - ECPv4.0//NONSGML v1.0//EN
CALSCALE:GREGORIAN
METHOD:PUBLISH
X-WR-CALNAME:Spielraum Bielefeld
X-ORIGINAL-URL:http://spielraum-bielefeld.de
X-WR-CALDESC:Events for Spielraum Bielefeld
BEGIN:VEVENT
DTSTART;TZID="Europe/Berlin":20160324T140000
DTEND;TZID="Europe/Berlin":20160324T140000
DTSTAMP:20260423T051346
CREATED:20160301T162825
LAST-MODIFIED:20160301T170956
UID:667-1458828000-1458828000@spielraum-bielefeld.de
SUMMARY:Force of Will (Turnier)
DESCRIPTION:
URL:http://spielraum-bielefeld.de/event/force-of-will-turnier/
CATEGORIES:Force of Will (TCG)
ATTACH;FMTTYPE=image/jpeg:http://spielraum-bielefeld.de/wp-content/uploads/2016/03/Force-Of-Will.jpg
END:VEVENT
END:VCALENDAR