BEGIN:VCALENDAR
VERSION:2.0
PRODID:-//Spielraum Bielefeld - ECPv4.0//NONSGML v1.0//EN
CALSCALE:GREGORIAN
METHOD:PUBLISH
X-WR-CALNAME:Spielraum Bielefeld
X-ORIGINAL-URL:http://spielraum-bielefeld.de
X-WR-CALDESC:Events for Spielraum Bielefeld
BEGIN:VEVENT
DTSTART;TZID="Europe/Berlin":20150626T163000
DTEND;TZID="Europe/Berlin":20150626T203000
DTSTAMP:20260422T193300
CREATED:20150615T125437
LAST-MODIFIED:20150615T125437
UID:284-1435336200-1435350600@spielraum-bielefeld.de
SUMMARY:Friday Night Magic: Backdraft-Turnier
DESCRIPTION:Friday Night Magic Backdraft-Turnier\, Promo: Frostschreiter\n\nBeim Backdraft wird wie bei einem normalen Draft vorgegangen\, es gibt jedoch einen Knackpunkt: Du möchtest die schlechtesten Karten draften! Nach dem Draft tauscht man den Draftpool mit einem anderen Spieler\, baut daraus sein Deck und spielt das Turnier damit.\n\nStartgebühr 10 Euro für Dragons / Fate Reforged oder 28 Euro für Modern Masters 2015.
URL:http://spielraum-bielefeld.de/event/friday-night-magic-backdraft-turnier/
LOCATION:Am Sparrenberg 2\, Bielefeld\, Nordrhein-Westfalen\, 33602\, Deutschland
CATEGORIES:Magic the Gathering
ORGANIZER;CN="Spielraum":MAILTO:info@spielraum-bielefeld.de
END:VEVENT
END:VCALENDAR