BEGIN:VCALENDAR
VERSION:2.0
PRODID:-//Spielraum Bielefeld - ECPv4.0//NONSGML v1.0//EN
CALSCALE:GREGORIAN
METHOD:PUBLISH
X-WR-CALNAME:Spielraum Bielefeld
X-ORIGINAL-URL:http://spielraum-bielefeld.de
X-WR-CALDESC:Events for Spielraum Bielefeld
BEGIN:VEVENT
DTSTART;TZID="Europe/Berlin":20160304T163000
DTEND;TZID="Europe/Berlin":20160304T203000
DTSTAMP:20260423T005851
CREATED:20160303T131032
LAST-MODIFIED:20160303T141533
UID:680-1457109000-1457123400@spielraum-bielefeld.de
SUMMARY:Friday Night Magic - Booster Draft
DESCRIPTION:Promo: In Stückchen zerschmettern
URL:http://spielraum-bielefeld.de/event/friday-night-magic-booster-draft-4/
LOCATION:Am Sparrenberg 2\, Bielefeld\, Nordrhein-Westfalen\, 33602\, Deutschland
CATEGORIES:Magic the Gathering
ATTACH;FMTTYPE=image/png:http://spielraum-bielefeld.de/wp-content/uploads/2016/03/EN_FNMpromo_SmashToSmithereens.png
ORGANIZER;CN="Spielraum":MAILTO:info@spielraum-bielefeld.de
END:VEVENT
END:VCALENDAR