BEGIN:VCALENDAR
VERSION:2.0
PRODID:-//Spielraum Bielefeld - ECPv4.0//NONSGML v1.0//EN
CALSCALE:GREGORIAN
METHOD:PUBLISH
X-WR-CALNAME:Spielraum Bielefeld
X-ORIGINAL-URL:http://spielraum-bielefeld.de
X-WR-CALDESC:Events for Spielraum Bielefeld
BEGIN:VEVENT
DTSTART;TZID="Europe/Berlin":20160610T153000
DTEND;TZID="Europe/Berlin":20160610T200000
DTSTAMP:20260422T231130
CREATED:20160608T090300
LAST-MODIFIED:20160608T090300
UID:858-1465572600-1465588800@spielraum-bielefeld.de
SUMMARY:Friday Night Magic - Booster Draft
DESCRIPTION:Promo: Wald-Hellseherei
URL:http://spielraum-bielefeld.de/event/friday-night-magic-booster-draft-5/
LOCATION:Am Sparrenberg 2\, Bielefeld\, Nordrhein-Westfalen\, 33602\, Deutschland
CATEGORIES:Magic the Gathering
ORGANIZER;CN="Spielraum":MAILTO:info@spielraum-bielefeld.de
END:VEVENT
END:VCALENDAR