BEGIN:VCALENDAR
VERSION:2.0
PRODID:-//Spielraum Bielefeld - ECPv4.0//NONSGML v1.0//EN
CALSCALE:GREGORIAN
METHOD:PUBLISH
X-WR-CALNAME:Spielraum Bielefeld
X-ORIGINAL-URL:http://spielraum-bielefeld.de
X-WR-CALDESC:Events for Spielraum Bielefeld
BEGIN:VEVENT
DTSTART;TZID="Europe/Berlin":20150710T150000
DTEND;TZID="Europe/Berlin":20150710T180000
DTSTAMP:20260423T005641
CREATED:20150705T185824
LAST-MODIFIED:20150705T185824
UID:321-1436540400-1436551200@spielraum-bielefeld.de
SUMMARY:Friday Night Magic: Commander
DESCRIPTION:Friday Night Magic\, Commander-Freies Spiel in Multiplayer Runden\, Promo: Weg ins Exil
URL:http://spielraum-bielefeld.de/event/friday-night-magic-commander-2/
LOCATION:Am Sparrenberg 2\, Bielefeld\, Nordrhein-Westfalen\, 33602\, Deutschland
CATEGORIES:Magic the Gathering
ATTACH;FMTTYPE=image/jpeg:http://spielraum-bielefeld.de/wp-content/uploads/2015/07/EN_CardPromo_PathToExile.jpg
ORGANIZER;CN="Spielraum":MAILTO:info@spielraum-bielefeld.de
END:VEVENT
END:VCALENDAR