BEGIN:VCALENDAR
VERSION:2.0
PRODID:-//Spielraum Bielefeld - ECPv4.0//NONSGML v1.0//EN
CALSCALE:GREGORIAN
METHOD:PUBLISH
X-WR-CALNAME:Spielraum Bielefeld
X-ORIGINAL-URL:http://spielraum-bielefeld.de
X-WR-CALDESC:Events for Spielraum Bielefeld
BEGIN:VEVENT
DTSTART;TZID="Europe/Berlin":20150731T150000
DTEND;TZID="Europe/Berlin":20150731T200000
DTSTAMP:20260423T010107
CREATED:20150717T192119
LAST-MODIFIED:20150720T182152
UID:332-1438354800-1438372800@spielraum-bielefeld.de
SUMMARY:Friday Night Magic: Commander Grand Melee
DESCRIPTION:Friday Night Magic\, Commander Grand Melee Event\, Promo: Weg ins Exil\n\nCommander Format mit 40 Lebenspunkten\, Spieler.innen sitzen im Kreis\, Angreifen nach links\, Spruchreichweite zwei\, ab 12 Spieler.innen mehrere Zugmarker gleichzeitig.\n\nImmer wenn dein linker Nachbar aus dem Spiel ausscheidet\, erhälst du einen Punkt (selbst wenn jemand anderes den Spieler aus dem Spiel nimmt). Als letzter Spieler im Spiel erhälst du zwei Bonuspunkte. Es gewinnt der Spieler mit den meisten Punkten\, selbst wenn er nicht der letzte ist.
URL:http://spielraum-bielefeld.de/event/friday-night-magic-commander-grand-melee/
LOCATION:Am Sparrenberg 2\, Bielefeld\, Nordrhein-Westfalen\, 33602\, Deutschland
CATEGORIES:Magic the Gathering
ATTACH;FMTTYPE=image/jpeg:http://spielraum-bielefeld.de/wp-content/uploads/2015/07/EN_CardPromo_PathToExile.jpg
ORGANIZER;CN="Spielraum":MAILTO:info@spielraum-bielefeld.de
END:VEVENT
END:VCALENDAR