BEGIN:VCALENDAR
VERSION:2.0
PRODID:-//Spielraum Bielefeld - ECPv4.0//NONSGML v1.0//EN
CALSCALE:GREGORIAN
METHOD:PUBLISH
X-WR-CALNAME:Spielraum Bielefeld
X-ORIGINAL-URL:http://spielraum-bielefeld.de
X-WR-CALDESC:Events for Spielraum Bielefeld
BEGIN:VEVENT
DTSTART;TZID="Europe/Berlin":20150515T170000
DTEND;TZID="Europe/Berlin":20150515T200000
DTSTAMP:20260423T025305
CREATED:20150515T140734
LAST-MODIFIED:20150515T140734
UID:230-1431709200-1431720000@spielraum-bielefeld.de
SUMMARY:Friday Night Magic: Commander
DESCRIPTION:Friday Night Magic\, Commander-Freies Spiel\, Promo: Abzan-Bändiger
URL:http://spielraum-bielefeld.de/event/friday-night-magic-commander/
LOCATION:Am Sparrenberg 2\, Bielefeld\, Nordrhein-Westfalen\, 33602\, Deutschland
CATEGORIES:Magic the Gathering
ORGANIZER;CN="Spielraum":MAILTO:info@spielraum-bielefeld.de
END:VEVENT
END:VCALENDAR