BEGIN:VCALENDAR
VERSION:2.0
PRODID:-//Spielraum Bielefeld - ECPv4.0//NONSGML v1.0//EN
CALSCALE:GREGORIAN
METHOD:PUBLISH
X-WR-CALNAME:Spielraum Bielefeld
X-ORIGINAL-URL:http://spielraum-bielefeld.de
X-WR-CALDESC:Events for Spielraum Bielefeld
BEGIN:VEVENT
DTSTART;TZID="Europe/Berlin":20160205T140000
DTEND;TZID="Europe/Berlin":20160205T140000
DTSTAMP:20260423T030454
CREATED:20160125T193715
LAST-MODIFIED:20160125T193817
UID:593-1454680800-1454680800@spielraum-bielefeld.de
SUMMARY:Friday Night Magic - Commander
DESCRIPTION:
URL:http://spielraum-bielefeld.de/event/friday-night-magic-fnm-commander/
LOCATION:Am Sparrenberg 2\, Bielefeld\, Nordrhein-Westfalen\, 33602\, Deutschland
CATEGORIES:Magic the Gathering
ORGANIZER;CN="Spielraum":MAILTO:info@spielraum-bielefeld.de
END:VEVENT
END:VCALENDAR