BEGIN:VCALENDAR
VERSION:2.0
PRODID:-//Spielraum Bielefeld - ECPv4.0//NONSGML v1.0//EN
CALSCALE:GREGORIAN
METHOD:PUBLISH
X-WR-CALNAME:Spielraum Bielefeld
X-ORIGINAL-URL:http://spielraum-bielefeld.de
X-WR-CALDESC:Events for Spielraum Bielefeld
BEGIN:VEVENT
DTSTART;TZID="Europe/Berlin":20160527T150000
DTEND;TZID="Europe/Berlin":20160527T163000
DTSTAMP:20260422T215125
CREATED:20160517T152406
LAST-MODIFIED:20160517T152406
UID:809-1464361200-1464366600@spielraum-bielefeld.de
SUMMARY:Friday Night Magic - Grand Melee
DESCRIPTION:
URL:http://spielraum-bielefeld.de/event/friday-night-magic-grand-melee-2/
LOCATION:Am Sparrenberg 2\, Bielefeld\, Nordrhein-Westfalen\, 33602\, Deutschland
CATEGORIES:Magic the Gathering
ATTACH;FMTTYPE=image/jpeg:http://spielraum-bielefeld.de/wp-content/uploads/2015/06/FNM.jpg
ORGANIZER;CN="Spielraum":MAILTO:info@spielraum-bielefeld.de
END:VEVENT
END:VCALENDAR