BEGIN:VCALENDAR
VERSION:2.0
PRODID:-//Spielraum Bielefeld - ECPv4.0//NONSGML v1.0//EN
CALSCALE:GREGORIAN
METHOD:PUBLISH
X-WR-CALNAME:Spielraum Bielefeld
X-ORIGINAL-URL:http://spielraum-bielefeld.de
X-WR-CALDESC:Events for Spielraum Bielefeld
BEGIN:VEVENT
DTSTART;TZID="Europe/Berlin":20151204T173000
DTEND;TZID="Europe/Berlin":20151204T210000
DTSTAMP:20260423T010141
CREATED:20151127T190703
LAST-MODIFIED:20180109T182421
UID:517-1449250200-1449262800@spielraum-bielefeld.de
SUMMARY:Friday Night Magic: Legacy-Turnier
DESCRIPTION:Friday Night Magic\, Legacy-Turnier\, Promo: Antizipieren\n
URL:http://spielraum-bielefeld.de/event/friday-night-magic-legacy-turnier-3/
LOCATION:Am Sparrenberg 2\, Bielefeld\, Nordrhein-Westfalen\, 33602\, Deutschland
CATEGORIES:Magic the Gathering
ORGANIZER;CN="Spielraum":MAILTO:info@spielraum-bielefeld.de
END:VEVENT
END:VCALENDAR