BEGIN:VCALENDAR
VERSION:2.0
PRODID:-//Spielraum Bielefeld - ECPv4.0//NONSGML v1.0//EN
CALSCALE:GREGORIAN
METHOD:PUBLISH
X-WR-CALNAME:Spielraum Bielefeld
X-ORIGINAL-URL:http://spielraum-bielefeld.de
X-WR-CALDESC:Events for Spielraum Bielefeld
BEGIN:VEVENT
DTSTART;TZID="Europe/Berlin":20151002T090000
DTEND;TZID="Europe/Berlin":20151002T210000
DTSTAMP:20260423T010141
CREATED:20150926T022404
LAST-MODIFIED:20150927T110206
UID:434-1443776400-1443819600@spielraum-bielefeld.de
SUMMARY:Friday Night Magic: Mini-Master
DESCRIPTION:Friday Night Magic\, Mini-Master-Event\, Promo: Äußerster Preis\n\nJeder bekommt einen Booster und baut aus Standardländern und dem Booster-Inhalt ein mindestens 15 Karten großes Deck (Achtung: Eine Gewinnmöglichkeit ist Decken des Gegners).\nDann wird gegen eine Gegnerin mit dem Deck gespielt\, Starthand 5 Karten\, Startleben 15. Es wird Best of 7 gespielt\, also bis eine Spielerin 4 Spiele gewonnen hat. Der Verlierer scheidet aus dem Turnier aus.\nDie Verliererin behält alle ihre Karten\, der Sieger bekommt einen neuen Booster dazu und baut ein neues Deck\, entsprechend der Tabelle unten.\n\nDann wird eine neue Runde gepaart und gespielt\, Starthand\, –leben und Spielanzahl siehe unten.\n\nRunde 1\, Mindestdeckgröße 15\, Starthand 5\, Startleben 15\, Best of 7\nRunde 2\, Mindestdeckgröße 25\, Starthand 6\, Startleben 20\, Best of 5\nRunde 3\, Mindestdeckgröße 35\, Starthand 7\, Startleben 20\, Best of 3\nRunde 4+\, Mindestdeckgröße 40\, Starthand 7\, Startleben 20\, Best of 3\n\nNach dem Verlieren kann man wieder einsteigen.
URL:http://spielraum-bielefeld.de/event/friday-night-magic-mini-master-mit-kampf-um-zendikar/
LOCATION:Am Sparrenberg 2\, Bielefeld\, Nordrhein-Westfalen\, 33602\, Deutschland
CATEGORIES:Magic the Gathering
ORGANIZER;CN="Spielraum":MAILTO:info@spielraum-bielefeld.de
END:VEVENT
END:VCALENDAR