BEGIN:VCALENDAR
VERSION:2.0
PRODID:-//Spielraum Bielefeld - ECPv4.0//NONSGML v1.0//EN
CALSCALE:GREGORIAN
METHOD:PUBLISH
X-WR-CALNAME:Spielraum Bielefeld
X-ORIGINAL-URL:http://spielraum-bielefeld.de
X-WR-CALDESC:Events for Spielraum Bielefeld
BEGIN:VEVENT
DTSTART;TZID="Europe/Berlin":20150717T120000
DTEND;TZID="Europe/Berlin":20150717T200000
DTSTAMP:20260423T010109
CREATED:20150706T162531
LAST-MODIFIED:20150720T183245
UID:323-1437134400-1437163200@spielraum-bielefeld.de
SUMMARY:Friday Night Magic: Mini-Master mit Ursprünge
DESCRIPTION:Friday Night Magic\, Mini-Master-Event\, Promo: Weg ins Exil\n\nJeder bekommt einen Booster und baut aus Standardländern und dem Booster-Inhalt ein mindestens 15 Karten großes Deck (Achtung: Eine Gewinnmöglichkeit ist Decken der Gegnerin).\nDann wird gegen einen Gegner mit den Decks gespielt\, Starthand 5 Karten\, Startleben 15. Es wird Best of 7 gespielt\, also bis eine Spielerin 4 Spiele gewonnen hat. Der Verlierer scheidet aus dem Turnier aus.\nDie Verliererin behält alle ihre Karten\, der Sieger bekommt einen neuen Booster dazu und baut ein neues Deck\, entsprechend der Tabelle unten. \n\nDann wird eine neue Runde gepaart und gespielt\, Starthand\, –leben und Spielanzahl siehe unten.\n\nRunde 1\, Mindestdeckgröße 15\, Starthand\t5\, Startleben 15\, Best of 7\nRunde 2\, Mindestdeckgröße 30\, Starthand\t6\, Startleben 20\, Best of 5\nRunde 3+\, Mindestdeckgröße 40\, Starthand 7\, Startleben 20\, Best of 3\n\nNach dem Verlieren kann man auch wieder einsteigen.
URL:http://spielraum-bielefeld.de/event/friday-night-magic-mini-master-mit-magic-urspruenge/
LOCATION:Am Sparrenberg 2\, Bielefeld\, Nordrhein-Westfalen\, 33602\, Deutschland
CATEGORIES:Magic the Gathering
ATTACH;FMTTYPE=image/jpeg:http://spielraum-bielefeld.de/wp-content/uploads/2015/07/EN_CardPromo_PathToExile.jpg
ORGANIZER;CN="Spielraum":MAILTO:info@spielraum-bielefeld.de
END:VEVENT
END:VCALENDAR