BEGIN:VCALENDAR
VERSION:2.0
PRODID:-//Spielraum Bielefeld - ECPv4.0//NONSGML v1.0//EN
CALSCALE:GREGORIAN
METHOD:PUBLISH
X-WR-CALNAME:Spielraum Bielefeld
X-ORIGINAL-URL:http://spielraum-bielefeld.de
X-WR-CALDESC:Events for Spielraum Bielefeld
BEGIN:VEVENT
DTSTART;TZID="Europe/Berlin":20150501T160000
DTEND;TZID="Europe/Berlin":20150501T200000
DTSTAMP:20260423T103153
CREATED:20150430T102427
LAST-MODIFIED:20150504T182854
UID:193-1430496000-1430510400@spielraum-bielefeld.de
SUMMARY:Friday Night Magic: Modern-Turnier
DESCRIPTION:Friday Night Magic\, Modern-Turnier\, Promo: Abzan-Bändiger
URL:http://spielraum-bielefeld.de/event/friday-night-magic-modern-1-mai/
LOCATION:Am Sparrenberg 2\, Bielefeld\, Nordrhein-Westfalen\, 33602\, Deutschland
CATEGORIES:Magic the Gathering
END:VEVENT
END:VCALENDAR