BEGIN:VCALENDAR
VERSION:2.0
PRODID:-//Spielraum Bielefeld - ECPv4.0//NONSGML v1.0//EN
CALSCALE:GREGORIAN
METHOD:PUBLISH
X-WR-CALNAME:Spielraum Bielefeld
X-ORIGINAL-URL:http://spielraum-bielefeld.de
X-WR-CALDESC:Events for Spielraum Bielefeld
BEGIN:VEVENT
DTSTART;TZID="Europe/Berlin":20150925T160000
DTEND;TZID="Europe/Berlin":20150925T160000
DTSTAMP:20260423T005950
CREATED:20150815T085553
LAST-MODIFIED:20150909T153110
UID:368-1443196800-1443196800@spielraum-bielefeld.de
SUMMARY:Friday Night Magic: Modern Turnier
DESCRIPTION:Friday Night Magic\, Modern-Turnier (maximal 4 Runden). Promo: Orator des Ojutai
URL:http://spielraum-bielefeld.de/event/friday-night-magic-modern-turnier-5/
LOCATION:Am Sparrenberg 2\, Bielefeld\, Nordrhein-Westfalen\, 33602\, Deutschland
CATEGORIES:Magic the Gathering
ATTACH;FMTTYPE=image/png:http://spielraum-bielefeld.de/wp-content/uploads/2015/08/OratorDesOjutai.png
ORGANIZER;CN="Spielraum":MAILTO:info@spielraum-bielefeld.de
END:VEVENT
END:VCALENDAR