BEGIN:VCALENDAR
VERSION:2.0
PRODID:-//Spielraum Bielefeld - ECPv4.0//NONSGML v1.0//EN
CALSCALE:GREGORIAN
METHOD:PUBLISH
X-WR-CALNAME:Spielraum Bielefeld
X-ORIGINAL-URL:http://spielraum-bielefeld.de
X-WR-CALDESC:Events for Spielraum Bielefeld
BEGIN:VEVENT
DTSTART;TZID="Europe/Berlin":20150703T160000
DTEND;TZID="Europe/Berlin":20150703T203000
DTSTAMP:20260422T231128
CREATED:20150705T074839
LAST-MODIFIED:20150705T195041
UID:313-1435939200-1435955400@spielraum-bielefeld.de
SUMMARY:Friday Night Magic: Modern Turnier
DESCRIPTION:Friday Night Magic\, Modern-Turnier\, Promo: Weg ins Exil\n\nSieger: Sebastian Born\, 2. Platz: Magnus Winter\, 3. Platz: Timo Justus
URL:http://spielraum-bielefeld.de/event/friday-night-magic-modern-turnier/
LOCATION:Am Sparrenberg 2\, Bielefeld\, Nordrhein-Westfalen\, 33602\, Deutschland
CATEGORIES:Magic the Gathering
ATTACH;FMTTYPE=image/jpeg:http://spielraum-bielefeld.de/wp-content/uploads/2015/07/EN_CardPromo_PathToExile.jpg
ORGANIZER;CN="Spielraum":MAILTO:info@spielraum-bielefeld.de
END:VEVENT
END:VCALENDAR