BEGIN:VCALENDAR
VERSION:2.0
PRODID:-//Spielraum Bielefeld - ECPv4.0//NONSGML v1.0//EN
CALSCALE:GREGORIAN
METHOD:PUBLISH
X-WR-CALNAME:Spielraum Bielefeld
X-ORIGINAL-URL:http://spielraum-bielefeld.de
X-WR-CALDESC:Events for Spielraum Bielefeld
BEGIN:VEVENT
DTSTART;TZID="Europe/Berlin":20150619T163000
DTEND;TZID="Europe/Berlin":20150619T203000
DTSTAMP:20260422T231036
CREATED:20150614T120748
LAST-MODIFIED:20150614T122402
UID:282-1434731400-1434745800@spielraum-bielefeld.de
SUMMARY:Friday Night Magic: Reject Rare Draft
DESCRIPTION:Friday Night Magic Reject Rare Draft-Turnier\, Promo: Frostschreiter\n\nBei Reject Rare Draft bringt jeder Spieler als Startgebühr 45 Rare (oder Mythic-Rare) Karten mit. Dabei sollten keine Karten doppelt sein und mindestens die Hälfte Kreaturen. Die Rares werden eingesammelt und daraus 15 Karten-Booster erstellt\, mit denen normal gedraftet wird. Am Ende des Abends nimmt jeder seine gedrafteten Karten mit. 
URL:http://spielraum-bielefeld.de/event/friday-night-magic-reject-rare-draft/
LOCATION:Am Sparrenberg 2\, Bielefeld\, Nordrhein-Westfalen\, 33602\, Deutschland
CATEGORIES:Magic the Gathering
ORGANIZER;CN="Spielraum":MAILTO:info@spielraum-bielefeld.de
END:VEVENT
END:VCALENDAR