BEGIN:VCALENDAR
VERSION:2.0
PRODID:-//Spielraum Bielefeld - ECPv4.0//NONSGML v1.0//EN
CALSCALE:GREGORIAN
METHOD:PUBLISH
X-WR-CALNAME:Spielraum Bielefeld
X-ORIGINAL-URL:http://spielraum-bielefeld.de
X-WR-CALDESC:Events for Spielraum Bielefeld
BEGIN:VEVENT
DTSTART;TZID="Europe/Berlin":20150605T150000
DTEND;TZID="Europe/Berlin":20150605T200000
DTSTAMP:20260422T215146
CREATED:20150603T144822
LAST-MODIFIED:20180107T084930
UID:267-1433516400-1433534400@spielraum-bielefeld.de
SUMMARY:Friday Night Magic: Standard Peasant Liga
DESCRIPTION:Friday Night Magic\, Standard Peasant-Liga\, Promo: Frostschreiter
URL:http://spielraum-bielefeld.de/event/friday-night-magic-standard-peasant-liga-2/
LOCATION:Am Sparrenberg 2\, Bielefeld\, Nordrhein-Westfalen\, 33602\, Deutschland
CATEGORIES:Magic the Gathering
ORGANIZER;CN="Spielraum":MAILTO:info@spielraum-bielefeld.de
END:VEVENT
END:VCALENDAR