BEGIN:VCALENDAR
VERSION:2.0
PRODID:-//Spielraum Bielefeld - ECPv4.0//NONSGML v1.0//EN
CALSCALE:GREGORIAN
METHOD:PUBLISH
X-WR-CALNAME:Spielraum Bielefeld
X-ORIGINAL-URL:http://spielraum-bielefeld.de
X-WR-CALDESC:Events for Spielraum Bielefeld
BEGIN:VEVENT
DTSTART;TZID="Europe/Berlin":20150529T150000
DTEND;TZID="Europe/Berlin":20150529T200000
DTSTAMP:20260422T215148
CREATED:20150515T153438
LAST-MODIFIED:20150515T153438
UID:235-1432911600-1432929600@spielraum-bielefeld.de
SUMMARY:Friday Night Magic: Standard Peasant Liga
DESCRIPTION:Friday Night Magic\, Standard Peasant-Liga\, Promo: Abzan-Bändiger
URL:http://spielraum-bielefeld.de/event/friday-night-magic-standard-peasant-liga/
LOCATION:Am Sparrenberg 2\, Bielefeld\, Nordrhein-Westfalen\, 33602\, Deutschland
CATEGORIES:Magic the Gathering
ORGANIZER;CN="Spielraum":MAILTO:info@spielraum-bielefeld.de
END:VEVENT
END:VCALENDAR