BEGIN:VCALENDAR
VERSION:2.0
PRODID:-//Spielraum Bielefeld - ECPv4.0//NONSGML v1.0//EN
CALSCALE:GREGORIAN
METHOD:PUBLISH
X-WR-CALNAME:Spielraum Bielefeld
X-ORIGINAL-URL:http://spielraum-bielefeld.de
X-WR-CALDESC:Events for Spielraum Bielefeld
BEGIN:VEVENT
DTSTART;TZID="Europe/Berlin":20150911T150000
DTEND;TZID="Europe/Berlin":20150911T193000
DTSTAMP:20260422T232239
CREATED:20150815T084510
LAST-MODIFIED:20150828T132221
UID:361-1441983600-1441999800@spielraum-bielefeld.de
SUMMARY:Friday Night Magic: Zweiköpfiger Riese Turnier
DESCRIPTION:Friday Night Magic\, Commander Zweiköpfiger Riese (2HG) - Turnier.\n\nKeine Karte darf über beide Decks doppelt vorhanden sein und jedes Team beginnt mit 60 Lebenspunkten.
URL:http://spielraum-bielefeld.de/event/friday-night-magic-zweikoepfiger-riese-turnier/
LOCATION:Am Sparrenberg 2\, Bielefeld\, Nordrhein-Westfalen\, 33602\, Deutschland
CATEGORIES:Magic the Gathering
ATTACH;FMTTYPE=image/png:http://spielraum-bielefeld.de/wp-content/uploads/2015/08/OratorDesOjutai.png
ORGANIZER;CN="Spielraum":MAILTO:info@spielraum-bielefeld.de
END:VEVENT
END:VCALENDAR