BEGIN:VCALENDAR
VERSION:2.0
PRODID:-//Spielraum Bielefeld - ECPv4.0//NONSGML v1.0//EN
CALSCALE:GREGORIAN
METHOD:PUBLISH
X-WR-CALNAME:Spielraum Bielefeld
X-ORIGINAL-URL:http://spielraum-bielefeld.de
X-WR-CALDESC:Events for Spielraum Bielefeld
BEGIN:VEVENT
DTSTART;TZID="Europe/Berlin":20151031T110000
DTEND;TZID="Europe/Berlin":20151031T110000
DTSTAMP:20260422T215316
CREATED:20150816T095146
LAST-MODIFIED:20151026T161919
UID:382-1446289200-1446289200@spielraum-bielefeld.de
SUMMARY:Grand Prix Trial Brüssel: Standard Turnier
DESCRIPTION:
URL:http://spielraum-bielefeld.de/event/grand-prix-trial-bruessel-standard-turnier/
LOCATION:Am Sparrenberg 2\, Bielefeld\, Nordrhein-Westfalen\, 33602\, Deutschland
CATEGORIES:Magic the Gathering
ORGANIZER;CN="Spielraum":MAILTO:info@spielraum-bielefeld.de
END:VEVENT
END:VCALENDAR