BEGIN:VCALENDAR
VERSION:2.0
PRODID:-//Spielraum Bielefeld - ECPv4.0//NONSGML v1.0//EN
CALSCALE:GREGORIAN
METHOD:PUBLISH
X-WR-CALNAME:Spielraum Bielefeld
X-ORIGINAL-URL:http://spielraum-bielefeld.de
X-WR-CALDESC:Events for Spielraum Bielefeld
BEGIN:VEVENT
DTSTART;TZID="Europe/Berlin":20160319T110000
DTEND;TZID="Europe/Berlin":20160319T110000
DTSTAMP:20260423T071409
CREATED:20160301T165155
LAST-MODIFIED:20160301T171006
UID:671-1458385200-1458385200@spielraum-bielefeld.de
SUMMARY:Gratis Rollenspiel Tag
DESCRIPTION:In diesem Jahr stellen wir das Rollenspiel Splittermond vor.
URL:http://spielraum-bielefeld.de/event/gratis-rollenspiel-tag-2016/
LOCATION:Am Sparrenberg 2\, Bielefeld\, Nordrhein-Westfalen\, 33602\, Deutschland
CATEGORIES:Rollenspiel
ORGANIZER;CN="Spielraum":MAILTO:info@spielraum-bielefeld.de
END:VEVENT
END:VCALENDAR