BEGIN:VCALENDAR
VERSION:2.0
PRODID:-//Spielraum Bielefeld - ECPv4.0//NONSGML v1.0//EN
CALSCALE:GREGORIAN
METHOD:PUBLISH
X-WR-CALNAME:Spielraum Bielefeld
X-ORIGINAL-URL:http://spielraum-bielefeld.de
X-WR-CALDESC:Events for Spielraum Bielefeld
BEGIN:VEVENT
DTSTART;TZID="Europe/Berlin":20150411T130000
DTEND;TZID="Europe/Berlin":20150411T130000
DTSTAMP:20260423T173517
CREATED:20150409T192424
LAST-MODIFIED:20150415T191321
UID:138-1428757200-1428757200@spielraum-bielefeld.de
SUMMARY:International TableTop Day
DESCRIPTION:
URL:http://spielraum-bielefeld.de/event/international-tabletop-day/
LOCATION:Am Sparrenberg 2\, Bielefeld\, Nordrhein-Westfalen\, 33602\, Deutschland
CATEGORIES:International TableTop Day
ATTACH;FMTTYPE=image/png:http://spielraum-bielefeld.de/wp-content/uploads/2015/04/International-TableTop-Day-2015.png
END:VEVENT
END:VCALENDAR