BEGIN:VCALENDAR
VERSION:2.0
PRODID:-//Spielraum Bielefeld - ECPv4.0//NONSGML v1.0//EN
CALSCALE:GREGORIAN
METHOD:PUBLISH
X-WR-CALNAME:Spielraum Bielefeld
X-ORIGINAL-URL:http://spielraum-bielefeld.de
X-WR-CALDESC:Events for Spielraum Bielefeld
BEGIN:VEVENT
DTSTART;TZID="Europe/Berlin":20161008T153000
DTEND;TZID="Europe/Berlin":20161008T153000
DTSTAMP:20260422T215126
CREATED:20161001T082954
LAST-MODIFIED:20161001T083419
UID:1109-1475940600-1475940600@spielraum-bielefeld.de
SUMMARY:Krosmaster Arena 2.0
DESCRIPTION:Im Krosmoz beginnt mit Krosmaster Arena 2.0 ab Oktober ein neues Kapitel :) Durch neue Spielpläne\, Dekos\, exklusiven Figuren und einem vollständig überarbeitetem Regelwerk (100% kompatibel mit allen bisher erschienenen Sets und Figuren) kommen sowohl Veteranen als auch Neueinsteiger auf ihre Kosten. Aus diesem Anlass bieten wir allen Veteranen und Neueinsteiger am Samstag den 08.10. ab 17:30 die Möglichkeit Krosmaster Arena 2.0 einzuweihen.
URL:http://spielraum-bielefeld.de/event/krosmaster-arena-2-0/
LOCATION:Am Sparrenberg 2\, Bielefeld\, Nordrhein-Westfalen\, 33602\, Deutschland
CATEGORIES:Krosmaster Organized Play
ATTACH;FMTTYPE=image/jpeg:http://spielraum-bielefeld.de/wp-content/uploads/2016/09/Krosmaster-Arena-2.0-2016.jpg
ORGANIZER;CN="Spielraum":MAILTO:info@spielraum-bielefeld.de
END:VEVENT
END:VCALENDAR