BEGIN:VCALENDAR
VERSION:2.0
PRODID:-//Spielraum Bielefeld - ECPv4.0//NONSGML v1.0//EN
CALSCALE:GREGORIAN
METHOD:PUBLISH
X-WR-CALNAME:Spielraum Bielefeld
X-ORIGINAL-URL:http://spielraum-bielefeld.de
X-WR-CALDESC:Events for Spielraum Bielefeld
BEGIN:VEVENT
DTSTART;TZID="Europe/Berlin":20151010T100000
DTEND;TZID="Europe/Berlin":20151010T100000
DTSTAMP:20260423T071641
CREATED:20150927T112018
LAST-MODIFIED:20150927T112224
UID:437-1444471200-1444471200@spielraum-bielefeld.de
SUMMARY:Krosmaster Arena: Constructed Turniere
DESCRIPTION:Wir spielen auf der neuen Karte 'Piwate Island' :)\n\n\nJeder Spieler bringt sein eigenes Team (Level 12) zum Turnier mit.\nDer Gesamtlevel aller Figuren darf den Wert 12 nicht überschreiten.
URL:http://spielraum-bielefeld.de/event/krosmaster-arena-constructed-turniere-5/
LOCATION:Am Sparrenberg 2\, Bielefeld\, Nordrhein-Westfalen\, 33602\, Deutschland
CATEGORIES:Krosmaster Organized Play
ATTACH;FMTTYPE=image/jpeg:http://spielraum-bielefeld.de/wp-content/uploads/2015/03/Krosmaster-Arena-2012.jpg
ORGANIZER;CN="Spielraum":MAILTO:info@spielraum-bielefeld.de
END:VEVENT
END:VCALENDAR