BEGIN:VCALENDAR
VERSION:2.0
PRODID:-//Spielraum Bielefeld - ECPv4.0//NONSGML v1.0//EN
CALSCALE:GREGORIAN
METHOD:PUBLISH
X-WR-CALNAME:Spielraum Bielefeld
X-ORIGINAL-URL:http://spielraum-bielefeld.de
X-WR-CALDESC:Events for Spielraum Bielefeld
BEGIN:VEVENT
DTSTART;TZID="Europe/Berlin":20150829T100000
DTEND;TZID="Europe/Berlin":20150829T100000
DTSTAMP:20260423T030401
CREATED:20150815T091503
LAST-MODIFIED:20150815T091622
UID:372-1440842400-1440842400@spielraum-bielefeld.de
SUMMARY:Krosmaster Arena: Draft Turnier
DESCRIPTION:Für das Turnier öffnen wir 4 Blind-Boxen pro Spieler:\n\n\t1x Krosmaster Season 1 Blind-Box\n\t1x Krosmaster Season 2 Blind-Box\n\t2x Krosmaster Season 3 Blind-Box\n\nUnd spielen auf der neuen Karte 'Die Pirateninsel' :)
URL:http://spielraum-bielefeld.de/event/krosmaster-arena-draft-turnier-2/
LOCATION:Am Sparrenberg 2\, Bielefeld\, Nordrhein-Westfalen\, 33602\, Deutschland
CATEGORIES:Krosmaster Organized Play
ATTACH;FMTTYPE=image/jpeg:http://spielraum-bielefeld.de/wp-content/uploads/2015/03/Krosmaster-Arena-2012.jpg
ORGANIZER;CN="Spielraum":MAILTO:info@spielraum-bielefeld.de
END:VEVENT
END:VCALENDAR