BEGIN:VCALENDAR
VERSION:2.0
PRODID:-//Spielraum Bielefeld - ECPv4.0//NONSGML v1.0//EN
CALSCALE:GREGORIAN
METHOD:PUBLISH
X-WR-CALNAME:Spielraum Bielefeld
X-ORIGINAL-URL:http://spielraum-bielefeld.de
X-WR-CALDESC:Events for Spielraum Bielefeld
BEGIN:VEVENT
DTSTART;TZID="Europe/Berlin":20160123T110000
DTEND;TZID="Europe/Berlin":20160123T110000
DTSTAMP:20260423T071456
CREATED:20151222T171355
LAST-MODIFIED:20151222T171355
UID:557-1453546800-1453546800@spielraum-bielefeld.de
SUMMARY:Krosmaster Arena: Turnier
DESCRIPTION:
URL:http://spielraum-bielefeld.de/event/krosmaster-arena-turnier/
LOCATION:Am Sparrenberg 2\, Bielefeld\, Nordrhein-Westfalen\, 33602\, Deutschland
CATEGORIES:Krosmaster Organized Play
ATTACH;FMTTYPE=image/jpeg:http://spielraum-bielefeld.de/wp-content/uploads/2015/03/Krosmaster-Arena-2012.jpg
ORGANIZER;CN="Spielraum":MAILTO:info@spielraum-bielefeld.de
END:VEVENT
END:VCALENDAR