BEGIN:VCALENDAR
VERSION:2.0
PRODID:-//Spielraum Bielefeld - ECPv4.0//NONSGML v1.0//EN
CALSCALE:GREGORIAN
METHOD:PUBLISH
X-WR-CALNAME:Spielraum Bielefeld
X-ORIGINAL-URL:http://spielraum-bielefeld.de
X-WR-CALDESC:Events for Spielraum Bielefeld
BEGIN:VEVENT
DTSTART;TZID="Europe/Berlin":20150530T130000
DTEND;TZID="Europe/Berlin":20150530T130000
DTSTAMP:20260422T233928
CREATED:20150520T203554
LAST-MODIFIED:20150521T053628
UID:239-1432990800-1432990800@spielraum-bielefeld.de
SUMMARY:Krosmaster Arena: Constructed Turniere
DESCRIPTION:Jeder Spieler bringt sein eigenes Team (Level 12) zum Turnier mit.\nDer Gesamtlevel aller Figuren darf den Wert 12 nicht überschreiten.\n\nWir spielen auf DREI unterschiedlichen Spielfeldern:\n- Krosmaster Arena\n- Krosmaster Frigost\n- Krosmaster Mianix Dianix Minen\n\nMöge der Krostastischste Spieler gewinnen! :D
URL:http://spielraum-bielefeld.de/event/krosmaster-constructed-12-level-turnier/
LOCATION:Am Sparrenberg 2\, Bielefeld\, Nordrhein-Westfalen\, 33602\, Deutschland
CATEGORIES:Krosmaster Organized Play
ATTACH;FMTTYPE=image/jpeg:http://spielraum-bielefeld.de/wp-content/uploads/2015/03/Krosmaster-Arena-2012.jpg
ORGANIZER;CN="Spielraum":MAILTO:info@spielraum-bielefeld.de
END:VEVENT
END:VCALENDAR