BEGIN:VCALENDAR
VERSION:2.0
PRODID:-//Spielraum Bielefeld - ECPv4.0//NONSGML v1.0//EN
CALSCALE:GREGORIAN
METHOD:PUBLISH
X-WR-CALNAME:Spielraum Bielefeld
X-ORIGINAL-URL:http://spielraum-bielefeld.de
X-WR-CALDESC:Events for Spielraum Bielefeld
BEGIN:VEVENT
DTSTART;TZID="Europe/Berlin":20161029T153000
DTEND;TZID="Europe/Berlin":20161029T153000
DTSTAMP:20260422T233928
CREATED:20161001T091404
LAST-MODIFIED:20161001T095824
UID:1117-1477755000-1477755000@spielraum-bielefeld.de
SUMMARY:Krosmaster Arena 2.0 Season 4 PreRelease
DESCRIPTION:Teilnehmerzahl: ~16\n\nDatum: 29.10. ab 17:30\n\nOrt: Spielraum Bielefeld\n\nFormat: Booster Draft (Season 4)\n\nPreis: 35 EURO für 6x Season 4 Booster\n\nUm Voranmeldung wird dringend gebeten\, da anhand der Teilnehmerzah die Displays bestellt werden.\n
URL:http://spielraum-bielefeld.de/event/krosmaster-season-4-prerelease/
LOCATION:Am Sparrenberg 2\, Bielefeld\, Nordrhein-Westfalen\, 33602\, Deutschland
ATTACH;FMTTYPE=image/jpeg:http://spielraum-bielefeld.de/wp-content/uploads/2016/09/Krosmaster-Arena-2.0-2016.jpg
ORGANIZER;CN="Spielraum":MAILTO:info@spielraum-bielefeld.de
END:VEVENT
END:VCALENDAR