BEGIN:VCALENDAR
VERSION:2.0
PRODID:-//Spielraum Bielefeld - ECPv4.0//NONSGML v1.0//EN
CALSCALE:GREGORIAN
METHOD:PUBLISH
X-WR-CALNAME:Spielraum Bielefeld
X-ORIGINAL-URL:http://spielraum-bielefeld.de
X-WR-CALDESC:Events for Spielraum Bielefeld
BEGIN:VEVENT
DTSTART;TZID="Europe/Berlin":20151205T110000
DTEND;TZID="Europe/Berlin":20151205T160000
DTSTAMP:20260423T025837
CREATED:20151127T204016
LAST-MODIFIED:20170205T201414
UID:519-1449313200-1449331200@spielraum-bielefeld.de
SUMMARY:Living Card Game-Samstag
DESCRIPTION:Wir erklären und spielen:\n\n\tGame of Thrones Der Eiserne Thron 2. Edition\n\tAndroid Netrunner: Kartenspiel\n\tWarhammer 40.000 Conquest: Das Kartenspiel\n\tStar Wars Kartenspiel LCG\n
URL:http://spielraum-bielefeld.de/event/living-card-game-samstag/
LOCATION:Am Sparrenberg 2\, Bielefeld\, Nordrhein-Westfalen\, 33602\, Deutschland
ORGANIZER;CN="Spielraum":MAILTO:info@spielraum-bielefeld.de
END:VEVENT
END:VCALENDAR