BEGIN:VCALENDAR
VERSION:2.0
PRODID:-//Spielraum Bielefeld - ECPv4.0//NONSGML v1.0//EN
CALSCALE:GREGORIAN
METHOD:PUBLISH
X-WR-CALNAME:Spielraum Bielefeld
X-ORIGINAL-URL:http://spielraum-bielefeld.de
X-WR-CALDESC:Events for Spielraum Bielefeld
BEGIN:VEVENT
DTSTART;TZID="Europe/Berlin":20161201T150000
DTEND;TZID="Europe/Berlin":20161201T173000
DTSTAMP:20260423T013427
CREATED:20161126T173825
LAST-MODIFIED:20161126T202023
UID:1208-1480604400-1480613400@spielraum-bielefeld.de
SUMMARY:Living Card Games (LCGs)
DESCRIPTION:Game of Thrones\, Netrunner\, ...
URL:http://spielraum-bielefeld.de/event/living-card-games-lcgs/
LOCATION:Am Sparrenberg 2\, Bielefeld\, Nordrhein-Westfalen\, 33602\, Deutschland
CATEGORIES:A Game of Thrones (LCG),Android: Netrunner (LCG)
ORGANIZER;CN="Spielraum":MAILTO:info@spielraum-bielefeld.de
END:VEVENT
END:VCALENDAR