BEGIN:VCALENDAR
VERSION:2.0
PRODID:-//Spielraum Bielefeld - ECPv4.0//NONSGML v1.0//EN
CALSCALE:GREGORIAN
METHOD:PUBLISH
X-WR-CALNAME:Spielraum Bielefeld
X-ORIGINAL-URL:http://spielraum-bielefeld.de
X-WR-CALDESC:Events for Spielraum Bielefeld
BEGIN:VEVENT
DTSTART;TZID="Europe/Berlin":20160602T140000
DTEND;TZID="Europe/Berlin":20160602T163000
DTSTAMP:20260422T231447
CREATED:20160601T133756
LAST-MODIFIED:20171231T112644
UID:833-1464876000-1464885000@spielraum-bielefeld.de
SUMMARY:Living Card Games - Treff
DESCRIPTION:Netrunner\, Game of Thrones\, ...
URL:http://spielraum-bielefeld.de/event/living-card-games-treff-2/
LOCATION:Am Sparrenberg 2\, Bielefeld\, Nordrhein-Westfalen\, 33602\, Deutschland
CATEGORIES:A Game of Thrones (LCG),Android: Netrunner (LCG)
ATTACH;FMTTYPE=image/jpeg:http://spielraum-bielefeld.de/wp-content/uploads/2016/05/GoT-2016-Spring-Tournament-Kit.jpg
ORGANIZER;CN="Spielraum":MAILTO:info@spielraum-bielefeld.de
END:VEVENT
END:VCALENDAR