BEGIN:VCALENDAR
VERSION:2.0
PRODID:-//Spielraum Bielefeld - ECPv4.0//NONSGML v1.0//EN
CALSCALE:GREGORIAN
METHOD:PUBLISH
X-WR-CALNAME:Spielraum Bielefeld
X-ORIGINAL-URL:http://spielraum-bielefeld.de
X-WR-CALDESC:Events for Spielraum Bielefeld
BEGIN:VEVENT
DTSTART;TZID="Europe/Berlin":20151024T123000
DTEND;TZID="Europe/Berlin":20151024T123000
DTSTAMP:20260423T051551
CREATED:20150816T094720
LAST-MODIFIED:20150816T094735
UID:380-1445689800-1445689800@spielraum-bielefeld.de
SUMMARY:Magic Game Day: Standard Turnier mit Kampf um Zendikar
DESCRIPTION:
URL:http://spielraum-bielefeld.de/event/magic-game-day-standard-turnier-kampf-um-zendikar/
LOCATION:Am Sparrenberg 2\, Bielefeld\, Nordrhein-Westfalen\, 33602\, Deutschland
CATEGORIES:Magic the Gathering
ORGANIZER;CN="Spielraum":MAILTO:info@spielraum-bielefeld.de
END:VEVENT
END:VCALENDAR