BEGIN:VCALENDAR
VERSION:2.0
PRODID:-//Spielraum Bielefeld - ECPv4.0//NONSGML v1.0//EN
CALSCALE:GREGORIAN
METHOD:PUBLISH
X-WR-CALNAME:Spielraum Bielefeld
X-ORIGINAL-URL:http://spielraum-bielefeld.de
X-WR-CALDESC:Events for Spielraum Bielefeld
BEGIN:VEVENT
DTSTART;TZID="Europe/Berlin":20161001T090000
DTEND;TZID="Europe/Berlin":20161001T150000
DTSTAMP:20260422T214229
CREATED:20160831T155945
LAST-MODIFIED:20160831T155945
UID:1046-1475312400-1475334000@spielraum-bielefeld.de
SUMMARY:Magic Legacy MKM Prag Trial
DESCRIPTION:Legacy-Turnier\, Schweizer Runden je nach Teilnehmerzahl\, 1. Platz erhält Freien Eintritt\, 1 Bye und eine Playmat für das Legacy Event bei der MKM Series Prag (25. bis 27. November).\n\nDer Eintritt zum Con muss zusätzlich bezahlt werden.
URL:http://spielraum-bielefeld.de/event/magic-legacy-mkm-prag-trial/
LOCATION:Lindemannplatz 1\, Bielefeld-Sennestadt\, 33689\, Deutschland
CATEGORIES:Magic the Gathering
ORGANIZER;CN="Spielraum":MAILTO:info@spielraum-bielefeld.de
END:VEVENT
END:VCALENDAR