BEGIN:VCALENDAR
VERSION:2.0
PRODID:-//Spielraum Bielefeld - ECPv4.0//NONSGML v1.0//EN
CALSCALE:GREGORIAN
METHOD:PUBLISH
X-WR-CALNAME:Spielraum Bielefeld
X-ORIGINAL-URL:http://spielraum-bielefeld.de
X-WR-CALDESC:Events for Spielraum Bielefeld
BEGIN:VEVENT
DTSTART;TZID="Europe/Berlin":20151124T173000
DTEND;TZID="Europe/Berlin":20151124T210000
DTSTAMP:20260423T051207
CREATED:20151124T112238
LAST-MODIFIED:20151124T112238
UID:499-1448386200-1448398800@spielraum-bielefeld.de
SUMMARY:Magic Legacy Turnier
DESCRIPTION:Startgebühr: 2€\n\nTurnierformat: Schweizer System
URL:http://spielraum-bielefeld.de/event/magic-legacy-turnier/
LOCATION:Am Sparrenberg 2\, Bielefeld\, Nordrhein-Westfalen\, 33602\, Deutschland
ORGANIZER;CN="Spielraum":MAILTO:info@spielraum-bielefeld.de
END:VEVENT
END:VCALENDAR