BEGIN:VCALENDAR
VERSION:2.0
PRODID:-//Spielraum Bielefeld - ECPv4.0//NONSGML v1.0//EN
CALSCALE:GREGORIAN
METHOD:PUBLISH
X-WR-CALNAME:Spielraum Bielefeld
X-ORIGINAL-URL:http://spielraum-bielefeld.de
X-WR-CALDESC:Events for Spielraum Bielefeld
BEGIN:VEVENT
DTSTART;TZID="Europe/Berlin":20160930T090000
DTEND;TZID="Europe/Berlin":20160930T200000
DTSTAMP:20260422T195550
CREATED:20160928T161130
LAST-MODIFIED:20160928T161130
UID:1102-1475226000-1475265600@spielraum-bielefeld.de
SUMMARY:Magic Mini-Master Kaladesh
DESCRIPTION:Jeder bekommt einen Booster des neuen Sets Kaladesh und baut aus Standardländern und dem Booster-Inhalt ein mindestens 15 Karten großes Deck (Achtung: Eine Gewinnmöglichkeit ist Decktod der Gegnerin).\nDann wird gegen eine Gegnerin mit den Decks gespielt\, Starthand 5 Karten\, Startleben 15. Es wird Best of 7 gespielt\, also bis ein Spieler 4 Spiele gewonnen hat. \n\nDer Verlierer scheidet aus und behält alle seine Karten\, die Siegerin bekommt einen neuen Booster dazu und baut ein neues Deck\, entsprechend der Tabelle unten. Man kann nach dem Ausscheiden wieder neu Einsteigen. Startgebühr: 4 Euro.\n\nDann wird eine neue Runde gepaart und gespielt\, Starthand\, –leben und Spielanzahl entsprechend der Tabelle.\n\n\nRund-Mingröße---Hand---Leben---Best of\n-1---15---------5------15------7\n-2---25---------6------18------5\n-3---35---------6------20------3\n-4+--40---------7------20------3\n
URL:http://spielraum-bielefeld.de/event/magic-mini-master-kaladesh-2/
LOCATION:Am Sparrenberg 2\, Bielefeld\, Nordrhein-Westfalen\, 33602\, Deutschland
CATEGORIES:Magic the Gathering
ATTACH;FMTTYPE=image/jpeg:http://spielraum-bielefeld.de/wp-content/uploads/2016/09/MTG-Kaladesh.jpg
ORGANIZER;CN="Spielraum":MAILTO:info@spielraum-bielefeld.de
END:VEVENT
END:VCALENDAR