BEGIN:VCALENDAR
VERSION:2.0
PRODID:-//Spielraum Bielefeld - ECPv4.0//NONSGML v1.0//EN
CALSCALE:GREGORIAN
METHOD:PUBLISH
X-WR-CALNAME:Spielraum Bielefeld
X-ORIGINAL-URL:http://spielraum-bielefeld.de
X-WR-CALDESC:Events for Spielraum Bielefeld
BEGIN:VEVENT
DTSTART;TZID="Europe/Berlin":20160423T100000
DTEND;TZID="Europe/Berlin":20160423T160000
DTSTAMP:20260422T231340
CREATED:20160418T142250
LAST-MODIFIED:20160418T142250
UID:763-1461405600-1461427200@spielraum-bielefeld.de
SUMMARY:Magic MKM Series Frankfurt Modern Trial
DESCRIPTION:
URL:http://spielraum-bielefeld.de/event/magic-mkm-series-frankfurt-modern-trial/
LOCATION:Am Sparrenberg 2\, Bielefeld\, Nordrhein-Westfalen\, 33602\, Deutschland
CATEGORIES:Magic the Gathering
ATTACH;FMTTYPE=image/jpeg:http://spielraum-bielefeld.de/wp-content/uploads/2016/04/MTG-Schatten-über-Innistrad.jpg
ORGANIZER;CN="Spielraum":MAILTO:info@spielraum-bielefeld.de
END:VEVENT
END:VCALENDAR