BEGIN:VCALENDAR
VERSION:2.0
PRODID:-//Spielraum Bielefeld - ECPv4.0//NONSGML v1.0//EN
CALSCALE:GREGORIAN
METHOD:PUBLISH
X-WR-CALNAME:Spielraum Bielefeld
X-ORIGINAL-URL:http://spielraum-bielefeld.de
X-WR-CALDESC:Events for Spielraum Bielefeld
BEGIN:VEVENT
DTSTART;TZID="Europe/Berlin":20160925T080000
DTEND;TZID="Europe/Berlin":20160925T133000
DTSTAMP:20260422T232923
CREATED:20160919T161216
LAST-MODIFIED:20160921T172724
UID:1075-1474790400-1474810200@spielraum-bielefeld.de
SUMMARY:Magic Pre-Release Kaladesh
DESCRIPTION:4 Runden\, noch 30 Plätze frei
URL:http://spielraum-bielefeld.de/event/magic-pre-release-kaladesh-2/
LOCATION:Am Sparrenberg 2\, Bielefeld\, Nordrhein-Westfalen\, 33602\, Deutschland
CATEGORIES:Magic the Gathering
ATTACH;FMTTYPE=image/jpeg:http://spielraum-bielefeld.de/wp-content/uploads/2016/09/MTG-Kaladesh.jpg
ORGANIZER;CN="Spielraum":MAILTO:info@spielraum-bielefeld.de
END:VEVENT
END:VCALENDAR