BEGIN:VCALENDAR
VERSION:2.0
PRODID:-//Spielraum Bielefeld - ECPv4.0//NONSGML v1.0//EN
CALSCALE:GREGORIAN
METHOD:PUBLISH
X-WR-CALNAME:Spielraum Bielefeld
X-ORIGINAL-URL:http://spielraum-bielefeld.de
X-WR-CALDESC:Events for Spielraum Bielefeld
BEGIN:VEVENT
DTSTART;TZID="Europe/Berlin":20160117T130000
DTEND;TZID="Europe/Berlin":20160117T130000
DTSTAMP:20260423T161405
CREATED:20151222T165559
LAST-MODIFIED:20151222T165559
UID:550-1453035600-1453035600@spielraum-bielefeld.de
SUMMARY:Magic Prerelease (Oath of the Gatewatch)
DESCRIPTION:
URL:http://spielraum-bielefeld.de/event/magic-prerelease-oath-of-the-gatewatch-3/
LOCATION:Am Sparrenberg 2\, Bielefeld\, Nordrhein-Westfalen\, 33602\, Deutschland
CATEGORIES:Magic the Gathering
ATTACH;FMTTYPE=image/jpeg:http://spielraum-bielefeld.de/wp-content/uploads/2015/12/Oath-of-the-Gatewatch.jpg
ORGANIZER;CN="Spielraum":MAILTO:info@spielraum-bielefeld.de
END:VEVENT
END:VCALENDAR