BEGIN:VCALENDAR
VERSION:2.0
PRODID:-//Spielraum Bielefeld - ECPv4.0//NONSGML v1.0//EN
CALSCALE:GREGORIAN
METHOD:PUBLISH
X-WR-CALNAME:Spielraum Bielefeld
X-ORIGINAL-URL:http://spielraum-bielefeld.de
X-WR-CALDESC:Events for Spielraum Bielefeld
BEGIN:VEVENT
DTSTART;VALUE=DATE:20160407
DTEND;VALUE=DATE:20160408
DTSTAMP:20260422T220420
CREATED:20160410
LAST-MODIFIED:20160410
UID:756-1460066400-1460152799@spielraum-bielefeld.de
SUMMARY:Magic the Gathering - Schatten über Innistrad
DESCRIPTION:
URL:http://spielraum-bielefeld.de/event/magic-the-gathering-schatten-ueber-innistrad/
LOCATION:Am Sparrenberg 2\, Bielefeld\, Nordrhein-Westfalen\, 33602\, Deutschland
CATEGORIES:Magic the Gathering
ATTACH;FMTTYPE=image/jpeg:http://spielraum-bielefeld.de/wp-content/uploads/2016/04/MTG-Schatten-über-Innistrad.jpg
ORGANIZER;CN="Spielraum":MAILTO:info@spielraum-bielefeld.de
END:VEVENT
END:VCALENDAR