BEGIN:VCALENDAR
VERSION:2.0
PRODID:-//Spielraum Bielefeld - ECPv4.0//NONSGML v1.0//EN
CALSCALE:GREGORIAN
METHOD:PUBLISH
X-WR-CALNAME:Spielraum Bielefeld
X-ORIGINAL-URL:http://spielraum-bielefeld.de
X-WR-CALDESC:Events for Spielraum Bielefeld
BEGIN:VEVENT
DTSTART;TZID="Europe/Berlin":20150605T160000
DTEND;TZID="Europe/Berlin":20150605T203000
DTSTAMP:20260422T231009
CREATED:20150530T180742
LAST-MODIFIED:20150606T161826
UID:260-1433520000-1433536200@spielraum-bielefeld.de
SUMMARY:Friday Night Magic: Modern Turnier
DESCRIPTION:Friday Night Magic\, Modern-Turnier\, Promo: Frostschreiter\n\n1. Platz: Janosch Dierkes mit BW Flicker\n2. Platz: Philipp Drohberg mit Scapeshift
URL:http://spielraum-bielefeld.de/event/modern-turnier/
LOCATION:Am Sparrenberg 2\, Bielefeld\, Nordrhein-Westfalen\, 33602\, Deutschland
CATEGORIES:Magic the Gathering
ORGANIZER;CN="Spielraum":MAILTO:info@spielraum-bielefeld.de
END:VEVENT
END:VCALENDAR